BEGIN:VCALENDAR
VERSION:2.0
PRODID:-//DUH-IT - ECPv6.15.18//NONSGML v1.0//EN
CALSCALE:GREGORIAN
METHOD:PUBLISH
X-WR-CALNAME:DUH-IT
X-ORIGINAL-URL:https://duh-it.de
X-WR-CALDESC:Veranstaltungen für DUH-IT
REFRESH-INTERVAL;VALUE=DURATION:PT1H
X-Robots-Tag:noindex
X-PUBLISHED-TTL:PT1H
BEGIN:VTIMEZONE
TZID:Europe/Berlin
BEGIN:DAYLIGHT
TZOFFSETFROM:+0100
TZOFFSETTO:+0200
TZNAME:CEST
DTSTART:20240331T010000
END:DAYLIGHT
BEGIN:STANDARD
TZOFFSETFROM:+0200
TZOFFSETTO:+0100
TZNAME:CET
DTSTART:20241027T010000
END:STANDARD
BEGIN:DAYLIGHT
TZOFFSETFROM:+0100
TZOFFSETTO:+0200
TZNAME:CEST
DTSTART:20250330T010000
END:DAYLIGHT
BEGIN:STANDARD
TZOFFSETFROM:+0200
TZOFFSETTO:+0100
TZNAME:CET
DTSTART:20251026T010000
END:STANDARD
BEGIN:DAYLIGHT
TZOFFSETFROM:+0100
TZOFFSETTO:+0200
TZNAME:CEST
DTSTART:20260329T010000
END:DAYLIGHT
BEGIN:STANDARD
TZOFFSETFROM:+0200
TZOFFSETTO:+0100
TZNAME:CET
DTSTART:20261025T010000
END:STANDARD
END:VTIMEZONE
BEGIN:VEVENT
DTSTART;TZID=Europe/Berlin:20251203T140000
DTEND;TZID=Europe/Berlin:20251203T153000
DTSTAMP:20260421T104425
CREATED:20250911T055408Z
LAST-MODIFIED:20250912T084113Z
UID:9056-1764770400-1764775800@duh-it.de
SUMMARY:Transferkreis BlockcH2ain
DESCRIPTION:Unser nächstes Industriekreistreffen für alle Projektpartner*innen und Interessierten steht an: Tauchen Sie ein in die neuesten Entwicklungen unserer Digitalen Produktpasslösung für die Wasserstofflieferkette – H2-Trust. Nutzen Sie die Plattform unseres Transferkreises\, um sich mit anderen Kolleginnen und Kollegen der Wasserstoffbranche auszutauschen\, wertvolles Feedback zu geben und Impulse für die nächste Entwicklungsstufe zu setzen. Freuen Sie sich auf: \n\nEinen exklusiven Einblick in den aktuellen Stand in der Lösungsentwicklung von H2-Trust\nDie Verkündung eines Meilensteins – lassen Sie sich überraschen!\nEinblicke der BHYO GmbH in ihre Anlagen zur Wasserstoffproduktion aus Biomasse\nNetzwerken mit Kolleginnen und Kollegen aus Forschung und Industrie\n\nAgenda \n\nBegrüßung\nProjektvorstellung: H2-Trust im Forschungsprojekt DUH-IT\nEinblick in den aktuellen Stand der Lösungsentwicklung\nFeedback und Diskussion\nPraxisbericht BHYO GmbH: Wasserstoffproduktion aus Biomasse zur Schließung regionaler Energie- und Stoffkreisläufe\nAusblick & Verabschiedung\n\nDie Teilnahme an der Onlineveranstaltung ist kostenfrei. Bitte melden Sie sich verbindlich an – wir freuen uns auf Sie! \n  \n\n \n\n\n\n \n\nAnmeldung Transferkreis BlockcH2ain\n\n\nBitte geben Sie Ihre Daten ein\, um sich für unser Event zu registrieren.\n\n\nBitte füllen Sie das Pflichtfeld aus.\nNachname\n\n\n\nBitte füllen Sie das Pflichtfeld aus.\nVorname\n\n\n\nBitte füllen Sie das Pflichtfeld aus.\nInstitution\n\n\n\nBitte füllen Sie das Pflichtfeld aus.\n\nE-Mail \n* Pflichtfeld \n\n\n \n* Pflichtfeld \n\n\n\n\n\nAbsenden
URL:https://duh-it.de/event/transferkreis-blockch2ain-2/
CATEGORIES:Remote-Termine
ATTACH;FMTTYPE=image/jpeg:https://duh-it.de/wp-content/uploads/h2-trust.jpg
END:VEVENT
END:VCALENDAR